BEGIN:VCALENDAR
VERSION:2.0
PRODID:-//The Inn at Houghton Creek - Houghton, NY - ECPv6.15.20//NONSGML v1.0//EN
CALSCALE:GREGORIAN
METHOD:PUBLISH
X-WR-CALNAME:The Inn at Houghton Creek - Houghton, NY
X-ORIGINAL-URL:https://innathoughtoncreek.com
X-WR-CALDESC:Events for The Inn at Houghton Creek - Houghton, NY
REFRESH-INTERVAL;VALUE=DURATION:PT1H
X-Robots-Tag:noindex
X-PUBLISHED-TTL:PT1H
BEGIN:VTIMEZONE
TZID:America/New_York
BEGIN:DAYLIGHT
TZOFFSETFROM:-0500
TZOFFSETTO:-0400
TZNAME:EDT
DTSTART:20230312T070000
END:DAYLIGHT
BEGIN:STANDARD
TZOFFSETFROM:-0400
TZOFFSETTO:-0500
TZNAME:EST
DTSTART:20231105T060000
END:STANDARD
BEGIN:DAYLIGHT
TZOFFSETFROM:-0500
TZOFFSETTO:-0400
TZNAME:EDT
DTSTART:20240310T070000
END:DAYLIGHT
BEGIN:STANDARD
TZOFFSETFROM:-0400
TZOFFSETTO:-0500
TZNAME:EST
DTSTART:20241103T060000
END:STANDARD
BEGIN:DAYLIGHT
TZOFFSETFROM:-0500
TZOFFSETTO:-0400
TZNAME:EDT
DTSTART:20250309T070000
END:DAYLIGHT
BEGIN:STANDARD
TZOFFSETFROM:-0400
TZOFFSETTO:-0500
TZNAME:EST
DTSTART:20251102T060000
END:STANDARD
END:VTIMEZONE
BEGIN:VEVENT
DTSTART;TZID=America/New_York:20241213T100000
DTEND;TZID=America/New_York:20241213T190000
DTSTAMP:20260421T123204
CREATED:20241121T213653Z
LAST-MODIFIED:20241121T213653Z
UID:5799-1734084000-1734116400@innathoughtoncreek.com
SUMMARY:Christmas Arts and Craft Fair at Houghton University
DESCRIPTION:The 38th Annual Christmas Arts and Crafts Fair at Houghton University on Friday\, December 13\, 2024\, from 10:00 a.m. to 7:00 p.m. This year\, we are hosting over 50 vendors in the Campus Center Lounge. \n 
URL:https://innathoughtoncreek.com/event/christmas-arts-and-craft-fair-at-houghton-university/
LOCATION:Reinbolt Campus Center Houghton University\, 9789 County Road 35\, Houghton\, NY\, 14744\, United States
END:VEVENT
END:VCALENDAR